BEGIN:VCALENDAR
VERSION:2.0
PRODID:-//Trawler-Calendar-Tool 0.2
METHOD:PUBLISH
BEGIN:VTIMEZONE
TZID:Europe/Berlin
BEGIN:STANDARD
TZNAME:CET
DTSTART:20100101T010000
RRULE:FREQ=YEARLY;BYDAY=-1SU;BYMONTH=10
TZOFFSETFROM:+0200
TZOFFSETTO:+0100
END:STANDARD
BEGIN:DAYLIGHT
TZNAME:CEST
DTSTART:20100101T010000
RRULE:FREQ=YEARLY;BYDAY=-1SU;BYMONTH=3
TZOFFSETFROM:+0100
TZOFFSETTO:+0200
END:DAYLIGHT
END:VTIMEZONE
X-WR-TIMEZONE:Europe/Berlin
X-ORIGINAL-URL:https://www.spd-friedrichshafen.de/termine/
BEGIN:VEVENT
DTSTART;TZID=Europe/Berlin:20260609T190000
DTEND;TZID=Europe/Berlin:20260609T210000
LOCATION:Dorfkrug-Zeppelin König-Wilhelm-Platz 2\, 88045 Friedrichshafen
SUMMARY:Vorstandssitzung des Ortsverein Friedrichshafen
DESCRIPTION:
X-ALT-DESC;FMTTYPE=text/plain:
PRIORITY:5
UID:wscms191626-frhafen-0bcd8cd1d351cea3fb74e3bf447da139
URL:https://www.spd-friedrichshafen.de/calendar191626.ics
END:VEVENT
END:VCALENDAR